BEGIN:VCALENDAR
VERSION:2.0
PRODID:-//Sporting KC Youth Soccer - ECPv5.1.1//NONSGML v1.0//EN
CALSCALE:GREGORIAN
METHOD:PUBLISH
X-WR-CALNAME:Sporting KC Youth Soccer
X-ORIGINAL-URL:https://sportingkcyouth.com
X-WR-CALDESC:Events for Sporting KC Youth Soccer
BEGIN:VTIMEZONE
TZID:America/New_York
BEGIN:DAYLIGHT
TZOFFSETFROM:-0500
TZOFFSETTO:-0400
TZNAME:EDT
DTSTART:20260308T070000
END:DAYLIGHT
BEGIN:STANDARD
TZOFFSETFROM:-0400
TZOFFSETTO:-0500
TZNAME:EST
DTSTART:20261101T060000
END:STANDARD
END:VTIMEZONE
BEGIN:VEVENT
DTSTART;VALUE=DATE:20260406
DTEND;VALUE=DATE:20260410
DTSTAMP:20260422T144849
CREATED:20251219T155847Z
LAST-MODIFIED:20251219T155847Z
UID:17381-1775433600-1775779199@sportingkcyouth.com
SUMMARY:Spring Break Camp – Lee's Summit\, MO
DESCRIPTION:[vc_row][vc_column width=”2/3″][vc_column_text] \nLegacy Park Soccer Fields\n[/vc_column_text][/vc_column][vc_column width=”1/3″][vc_empty_space height=”25px”][lab_button title=”REGISTER NOW” type=”standard” button_bg=”custom” link=”url:https%3A%2F%2Fplaymetrics.com%2Fsignup%3FclubToken%3DTG9naW4tQ2x1Yi52MS01MTMtMTc2NzczNTAxOXxQRGlnYi9iQW9MS1NlRnRwS3VRWFBLQ3Q4Y1hLYXcyNWFUaGQvRXhDQWNVPQ%3D%3D%26program_id%3D77325%26attribution_id%3D879|target:_blank” button_bg_custom=”#0c2340″ button_txt_custom=”#ffffff” button_txt_hover_custom=”#a7c6ed” el_class=”.btn-fullwidth”][vc_empty_space height=”25px”][/vc_column][/vc_row][vc_row][vc_column][vc_column_text]Join Sporting KC on April 6-9 from 9AM-12PM for a fun-filled Spring Break Camp at Legacy Park Soccer Fields in Lee’s Summit\, Missouri! This camp is open to boys and girls of all skill levels\, from 5-14 years old. \nPlayers will have the opportunity to improve their game and make memories while having fun! This camp will include entertaining activities that challenge players in areas such as skill development\, form and technique\, and in-game decision making. All Sporting KC Youth Camps are designed to empower players to feel more confident in their soccer abilities. \nThis youth soccer camp is led by SKC Youth coaches\, and utilizes a developmental curriculum aligned with the Sporting KC Academy.[/vc_column_text][/vc_column][/vc_row][vc_row][vc_column css=”.vc_custom_1699040346765{padding-bottom: 25px !important;background-color: #e5eefa !important;}”][vc_column_text] \nApril 6-9\n\n9AM-10:30AM for Ages 5-7\n9AM-12PM for Ages 8-14\nLegacy Park Soccer Fields\n1501 NE Legacy Park Dr\, Lee’s Summit\, MO 64086 \nBoys & Girls\, 5-14 Years Old \nCost: $130 for Ages 5-7\nCost: $225 for Ages 8-14 \n  \n[/vc_column_text][vc_btn title=”REGISTER NOW” style=”custom” custom_background=”#0c2340″ custom_text=”#ffffff” shape=”square” size=”lg” align=”center” link=”url:https%3A%2F%2Fplaymetrics.com%2Fsignup%3FclubToken%3DTG9naW4tQ2x1Yi52MS01MTMtMTc2NzczNTAxOXxQRGlnYi9iQW9MS1NlRnRwS3VRWFBLQ3Q4Y1hLYXcyNWFUaGQvRXhDQWNVPQ%3D%3D%26program_id%3D77325%26attribution_id%3D879|target:_blank”][/vc_column][/vc_row][vc_row][vc_column][vc_empty_space][vc_column_text]Sporting KC Youth Soccer Camps are designed to meet players where they are in terms of development. This camp will include: \n\nProfessional & engaging environment for players to improve their game\nDevelopmental curriculum aligned with the Sporting KC Academy\nOfficial Sporting KC Camp t-shirt\nCoaching delivered by Sporting KC youth staff coaches\nEntertaining & energetic activities designed to create a memorable experience\nExclusive prizes awarded to select players at the conclusion of camp\n\n[/vc_column_text][/vc_column][/vc_row][vc_row disable_element=”yes”][vc_column width=”1/4″][vc_single_image image=”17222″ img_size=”full” alignment=”center”][/vc_column][vc_column width=”1/4″][vc_single_image image=”17223″ img_size=”full”][/vc_column][vc_column width=”1/4″][vc_single_image image=”17224″ img_size=”full”][/vc_column][vc_column width=”1/4″][vc_single_image image=”17225″ img_size=”full”][/vc_column][/vc_row] \n
URL:https://sportingkcyouth.com/camp/spring-break-camp-lees-summit/
LOCATION:Legacy Park Soccer Fields\, 1501 NE Legacy Park Drive\, Lee's Summit\, MO\, 64086
CATEGORIES:Camps,Local
ATTACH;FMTTYPE=image/jpeg:https://sportingkcyouth.com/wp-content/uploads/2025/12/26-YS_Spring_Break_Camps_Lees_Summit_MO-Web.jpg
END:VEVENT
END:VCALENDAR