BEGIN:VCALENDAR
VERSION:2.0
PRODID:-//Sporting KC Youth Soccer - ECPv5.1.1//NONSGML v1.0//EN
CALSCALE:GREGORIAN
METHOD:PUBLISH
X-WR-CALNAME:Sporting KC Youth Soccer
X-ORIGINAL-URL:https://sportingkcyouth.com
X-WR-CALDESC:Events for Sporting KC Youth Soccer
BEGIN:VTIMEZONE
TZID:America/New_York
BEGIN:DAYLIGHT
TZOFFSETFROM:-0500
TZOFFSETTO:-0400
TZNAME:EDT
DTSTART:20250309T070000
END:DAYLIGHT
BEGIN:STANDARD
TZOFFSETFROM:-0400
TZOFFSETTO:-0500
TZNAME:EST
DTSTART:20251102T060000
END:STANDARD
END:VTIMEZONE
BEGIN:VEVENT
DTSTART;VALUE=DATE:20250630
DTEND;VALUE=DATE:20250703
DTSTAMP:20260422T115612
CREATED:20250212T144124Z
LAST-MODIFIED:20250616T213145Z
UID:16273-1751241600-1751500799@sportingkcyouth.com
SUMMARY:Sporting Stripes & Stars Summer Soccer Camp
DESCRIPTION:[vc_row][vc_column width=”2/3″][vc_column_text] \nSporting KC Summer Soccer Camp\n[/vc_column_text][/vc_column][vc_column width=”1/3″][vc_empty_space height=”20px”][lab_button title=”CLICK HERE TO REGISTER” type=”standard” button_bg=”custom” link=”url:https%3A%2F%2Fplaymetrics.com%2Fsignup%3FclubToken%3DTG9naW4tQ2x1Yi52MS01MTMtMTc0MjY2MzAzMXxwNHpiTmxrU3QxR3V4ZFZ4ak5QSnpGOVlYYlpmMU42OU9MdHdTcEF1a1VZPQ%3D%3D%26program_id%3D52872|target:_blank” button_bg_custom=”#0c2340″ button_txt_custom=”#ffffff” button_txt_hover_custom=”#ffffff” el_class=”.btn-fullwidth”][vc_empty_space height=”20px”][/vc_column][/vc_row][vc_row][vc_column][vc_column_text]Join Sporting KC on June 30-July 2 from 9-11AM for our Sporting Stripes & Stars Summer Camp held indoors at Homefield – Olathe in Olathe\, Kansas! \nThis camp will follow the curriculum of our most popular intro-to-soccer programs\, Sporting Stripes (2-5 Years Old) and Sporting Stars (5-8 Years Old). These programs introduce toddlers and children to soccer\, help them reach developmental milestones and learn the basics of the game. \nThe Sporting Stripes & Stars Summer Camp is open to boys and girls\, 2-8 years old.[/vc_column_text][/vc_column][/vc_row][vc_row][vc_column][vc_separator][/vc_column][/vc_row][vc_row full_width=”stretch_row” gap=”10″ content_placement=”middle” css=”.vc_custom_1706889714267{margin-bottom: 30px !important;background-color: #edf4fb !important;}”][vc_column width=”1/2″][vc_column_text] \nCamp Details\nJune 30-July 2\, 2025 | 9-11AM\n \nCost: $155 \nHomefield – Olathe (indoor facility)\n2115 E Kansas City Rd\, Olathe\, KS 66061\n[/vc_column_text][lab_button title=”REGISTER NOW” type=”standard” button_bg=”custom” link=”url:https%3A%2F%2Fplaymetrics.com%2Fsignup%3FclubToken%3DTG9naW4tQ2x1Yi52MS01MTMtMTc0MjY2MzAzMXxwNHpiTmxrU3QxR3V4ZFZ4ak5QSnpGOVlYYlpmMU42OU9MdHdTcEF1a1VZPQ%3D%3D%26program_id%3D52872|target:_blank” button_bg_custom=”#0c2340″ button_txt_custom=”#ffffff” button_txt_hover_custom=”#ffffff”][vc_empty_space height=”20px”][/vc_column][vc_column width=”1/2″][vc_gmaps link=”#E-8_JTNDaWZyYW1lJTIwc3JjJTNEJTIyaHR0cHMlM0ElMkYlMkZ3d3cuZ29vZ2xlLmNvbSUyRm1hcHMlMkZlbWJlZCUzRnBiJTNEJTIxMW0xOCUyMTFtMTIlMjExbTMlMjExZDMxMDQuNzE2ODk1NTgxNjE3MyUyMTJkLTk0Ljc4Mzg1ODI4Nzk0MDk0JTIxM2QzOC45MDc1ODg4NDU5ODM5NiUyMTJtMyUyMTFmMCUyMTJmMCUyMTNmMCUyMTNtMiUyMTFpMTAyNCUyMTJpNzY4JTIxNGYxMy4xJTIxM20zJTIxMW0yJTIxMXMweDg3YzA5NWRkM2JkMDYwN2YlMjUzQTB4YWM2YWQ3YmY4YjkzN2I1YSUyMTJzSG9tZWZpZWxkJTI1MjBPbGF0aGUlMjE1ZTAlMjEzbTIlMjExc2VuJTIxMnN1cyUyMTR2MTcwNjkwMDY3MjY2MiUyMTVtMiUyMTFzZW4lMjEyc3VzJTIyJTIwd2lkdGglM0QlMjI2MDAlMjIlMjBoZWlnaHQlM0QlMjI0NTAlMjIlMjBzdHlsZSUzRCUyMmJvcmRlciUzQTAlM0IlMjIlMjBhbGxvd2Z1bGxzY3JlZW4lM0QlMjIlMjIlMjBsb2FkaW5nJTNEJTIybGF6eSUyMiUyMHJlZmVycmVycG9saWN5JTNEJTIybm8tcmVmZXJyZXItd2hlbi1kb3duZ3JhZGUlMjIlM0UlM0MlMkZpZnJhbWUlM0U=” size=””][/vc_column][/vc_row][vc_row][vc_column][vc_separator][/vc_column][/vc_row][vc_row][vc_column][vc_column_text]Sporting KC Youth Soccer Camps are designed to meet players where they are in terms of development. This camp will include: \n\nOfficial Sporting KC Camp t-shirt\nEnter a chance to win SKC tickets\nExclusive prizes awarded to all players\nProfessional & engaging environment for players to improve their game\nDevelopmental curriculum aligned with the Sporting KC Academy\n\nContact Us\nHave questions or need help registering? Email Tyler.Boller@Sportingkc.com[/vc_column_text][/vc_column][/vc_row] \n
URL:https://sportingkcyouth.com/camp/sporting-stripes-stars-summer-soccer-camp-2/
LOCATION:Homefield – Olathe\, 2115 E Kansas City Rd\, Olathe\, KS\, 66061\, United States
CATEGORIES:Camps,Local
ATTACH;FMTTYPE=image/jpeg:https://sportingkcyouth.com/wp-content/uploads/2025/02/25-YS-SummerCamp-Stars_and_Stripes-600x300-1.jpg
END:VEVENT
END:VCALENDAR